BEGIN:VCALENDAR
VERSION:2.0
PRODID:icalendar-ruby
CALSCALE:GREGORIAN
METHOD:PUBLISH
BEGIN:VEVENT
DTSTAMP:20260421T155237Z
UID:75-923549@nbclaurens.org
DTSTART:20260428T223000Z
DTEND:20260428T233000Z
CLASS:PUBLIC
CREATED:20260420T082355
DESCRIPTION:Join us for our home book study as we read through 'Encounterin
 g God' by Kelly Minter. Please see Dana Wilkins for the location of the me
 eting\, or if you need a copy of the book.
LAST-MODIFIED:20260420T082355
LOCATION:See Dana Wilkins for location
SUMMARY:Women's Home Book Study
URL;VALUE=URI:https://www.nbclaurens.org/events/womens-home-book-study/2026
 -04-28
ATTACH;FILENAME=Website-Graphics_20260420_082023_0000.png;FMTTYPE=image/png
 :https://dq5pwpg1q8ru0.cloudfront.net/2026/04/20/12/23/36/126fc496-48a7-4f
 59-828e-800a0149e6d6/Website-Graphics_20260420_082023_0000.png
END:VEVENT
END:VCALENDAR
