BEGIN:VCALENDAR
VERSION:2.0
PRODID:icalendar-ruby
CALSCALE:GREGORIAN
METHOD:PUBLISH
BEGIN:VEVENT
DTSTAMP:20260421T153803Z
UID:77-923551@nbclaurens.org
DTSTART:20260526T223000Z
DTEND:20260527T000000Z
CLASS:PUBLIC
CREATED:20260420T083653
DESCRIPTION:Join us for our home book study as we read through 'Encounterin
 g God' by Kelly Minter. Please see Dana Wilkins for the location of the me
 eting\, or if you need a copy of the book.
LAST-MODIFIED:20260420T083653
LOCATION:See Dana Wilkins for location
SUMMARY:Women's Home Book Study
URL;VALUE=URI:https://www.nbclaurens.org/events/womens-home-book-study--77/
 2026-05-26
ATTACH;FILENAME=Website-Graphics_20260420_082023_0000.png;FMTTYPE=image/png
 :https://dq5pwpg1q8ru0.cloudfront.net/2026/04/20/12/36/52/a49733da-bef5-4c
 57-913b-629b96e173d2/Website-Graphics_20260420_082023_0000.png
END:VEVENT
END:VCALENDAR
