BEGIN:VCALENDAR
VERSION:2.0
PRODID:icalendar-ruby
CALSCALE:GREGORIAN
METHOD:PUBLISH
BEGIN:VEVENT
DTSTAMP:20260421T191248Z
UID:80-924420@nbclaurens.org
DTSTART:20260619T230000Z
DTEND:20260620T160000Z
CLASS:PUBLIC
CREATED:20260420T122141
DESCRIPTION:Our student ministry is hosting "12:01\," an immersive overnigh
 t event at the church designed to open eyes and hearts to the reality of t
 he persecuted church. Students will explore what it means to follow Christ
  in countries where faith is illegal\, gaining a deeper perspective on the
 ir own spiritual journey. It’s going to be a powerful night of biblical 
 study\, reflection\, and growth.\n\n\nQuestions? Contact Youth Pastor Matt
  Mahaffey.\n\n\nReady to join? Please RSVP directly to Matt to secure a sp
 ot for your student!\n\n
LAST-MODIFIED:20260420T122141
LOCATION:Northside Church of Laurens\, 818 Northside Church Rd. Laurens\, S
 C 29360
SUMMARY:The 12:01 - Student Ministry Event
URL;VALUE=URI:https://www.nbclaurens.org/events/the-12-01-student-ministry-
 event/2026-06-19
ATTACH;FILENAME=Copy-of-The-1201_20260420_121657_0000.png;FMTTYPE=image/png
 :https://dq5pwpg1q8ru0.cloudfront.net/2026/04/20/16/21/09/f48cb74a-372b-4d
 ac-957c-3a16e3bf7fe0/Copy-of-The-1201_20260420_121657_0000.png
END:VEVENT
END:VCALENDAR
