BEGIN:VCALENDAR
VERSION:2.0
PRODID:icalendar-ruby
CALSCALE:GREGORIAN
METHOD:PUBLISH
BEGIN:VEVENT
DTSTAMP:20260422T103406Z
UID:6-930991@nbclaurens.org
DTSTART:20260920T140000Z
DTEND:20260920T144500Z
CLASS:PUBLIC
CREATED:20260421T204835
DESCRIPTION:
LAST-MODIFIED:20260421T204835
LOCATION:
SUMMARY:Sunday Morning Life Groups
URL;VALUE=URI:https://www.nbclaurens.org/events/sunday-morning-life-groups/
 2026-09-20
ATTACH;FILENAME=64E604D0-C91E-48A4-9346-7531483CAA2A.png;FMTTYPE=image/png:
 https://dq5pwpg1q8ru0.cloudfront.net/2023/10/07/20/37/10/3fd3e81f-a894-485
 a-9a5a-d752c2d59117/64E604D0-C91E-48A4-9346-7531483CAA2A.png
END:VEVENT
END:VCALENDAR
