BEGIN:VCALENDAR
VERSION:2.0
PRODID:icalendar-ruby
CALSCALE:GREGORIAN
METHOD:PUBLISH
BEGIN:VEVENT
DTSTAMP:20260421T154933Z
UID:76-923550@nbclaurens.org
DTSTART:20260502T150000Z
DTEND:20260502T170000Z
CLASS:PUBLIC
CREATED:20260420T083248
DESCRIPTION:We are hosting Mommy &amp\; Me Tea! Come enjoy tea party themed
  foods\, and of course some good tea and fellowship with moms\, daughters\
 , grandmothers' granddaughters\, nieces\, etc! Please RSVP at 864-431-6183
  if you plan to attend.
LAST-MODIFIED:20260420T083248
LOCATION:Northside Church of Laurens\, 818 Northside Church Rd. Laurens\, S
 C 29360
SUMMARY:Mommy & Me Tea
URL;VALUE=URI:https://www.nbclaurens.org/events/mommy-me-tea/2026-05-02
ATTACH;FILENAME=Website-Graphics_20260420_082552_0000.png;FMTTYPE=image/png
 :https://dq5pwpg1q8ru0.cloudfront.net/2026/04/20/12/32/47/a3dabc20-f065-46
 86-9059-ae9ef0855dd0/Website-Graphics_20260420_082552_0000.png
END:VEVENT
END:VCALENDAR
